BEGIN:VCALENDAR
VERSION:2.0
PRODID:-//SGG Manufacturing - ECPv6.3.7//NONSGML v1.0//EN
CALSCALE:GREGORIAN
METHOD:PUBLISH
X-ORIGINAL-URL:https://www.sggmanufacturing.co.uk
X-WR-CALDESC:Events for SGG Manufacturing
REFRESH-INTERVAL;VALUE=DURATION:PT1H
X-Robots-Tag:noindex
X-PUBLISHED-TTL:PT1H
BEGIN:VTIMEZONE
TZID:UTC
BEGIN:STANDARD
TZOFFSETFROM:+0000
TZOFFSETTO:+0000
TZNAME:UTC
DTSTART:20240101T000000
END:STANDARD
END:VTIMEZONE
BEGIN:VEVENT
DTSTART;TZID=UTC:20240517T160000
DTEND;TZID=UTC:20240517T180000
DTSTAMP:20260419T144721
CREATED:20240513T122123Z
LAST-MODIFIED:20240513T123046Z
UID:3511-1715961600-1715968800@www.sggmanufacturing.co.uk
SUMMARY:Dave Vout - Survey
DESCRIPTION:Survey as follows: \n  \n5 Windows \n1no 5 panel bifold \n1no composite door \n  \nNo install costs have been confirmed. \nSurvey cost – £90.00
URL:https://www.sggmanufacturing.co.uk/event/dave-vout-survey/
LOCATION:Dave Vout\, 16 Chester Road\, Wimbledon\, SW19 4TW
CATEGORIES:Survey
END:VEVENT
BEGIN:VEVENT
DTSTART;TZID=UTC:20240509T160000
DTEND;TZID=UTC:20240509T180000
DTSTAMP:20260419T144721
CREATED:20240502T124927Z
LAST-MODIFIED:20240502T125121Z
UID:3500-1715270400-1715277600@www.sggmanufacturing.co.uk
SUMMARY:Graham Oshea - Survey 6no windows
DESCRIPTION:Sizen given: \n  \nSnug – W: 2020mm X  H: 1265mm. Opening panel left and right. See snug.jpg\nHall – W:560mm X 1265mm. See hall-shower.jpg left window\nShower Room – W:560mm X 1265mm. Opaque glass.  See hall-shower.jpg right window \nBedroom 2 – W: 2055mm X  H: 1265mm. Opening panel left and right. See bedroom2.jpg \nEnsuite: W: 1055mm X  H: 1265mm. Opaque glass opening panel left. See ensuite.png \nBedroom 1 – W: 1535mm X  H: 1265mm. Opening panel left. See bedroom1.png \n  \nAgreed £60 for survey
URL:https://www.sggmanufacturing.co.uk/event/graham-oshea-survey-6no-windows/
LOCATION:Graham Oshea\, Moineir\, Furze Hill\, KT20 6EP
CATEGORIES:Survey
END:VEVENT
BEGIN:VEVENT
DTSTART;TZID=UTC:20240426T160000
DTEND;TZID=UTC:20240426T180000
DTSTAMP:20260419T144721
CREATED:20240423T075701Z
LAST-MODIFIED:20240423T080034Z
UID:3483-1714147200-1714154400@www.sggmanufacturing.co.uk
SUMMARY:Survey - 1no 3 Pane Bifold
DESCRIPTION:Quoted the following: \n  \n2480mm Wide x 2400mm High \n3 Doors \nAnthracite Grey Inside & Out \nLow threshold with standard 150mm cill \nUpgraded Ultra Low E Glazing (1.1u) \nBrushed Aluminium Handle \n2no Trickle vents \n20mm top addon \n  \nDeposit already paid \nInstall – £750 \nSurvey – £50
URL:https://www.sggmanufacturing.co.uk/event/survey-1no-3-pane-bifold/
LOCATION:Ursula Knorr\, 82 Settrington Road\, London\, SW6 3BA
CATEGORIES:Survey
END:VEVENT
BEGIN:VEVENT
DTSTART;TZID=UTC:20240423T160000
DTEND;TZID=UTC:20240423T180000
DTSTAMP:20260419T144721
CREATED:20240423T080300Z
LAST-MODIFIED:20240423T080507Z
UID:3486-1713888000-1713895200@www.sggmanufacturing.co.uk
SUMMARY:Survey - 1no 3 Pane Bifold
DESCRIPTION:Width:    2700mm\nHeight:   2100mm\nNo Of Doors:   3\nOpening Config:   TBC (Viewed from the outside looking in)\nOpening Direction: Outward\nColour:    Anthracite or Black\nGlazing:   Low E (4/20/4 mm clear\, toughened double glazed units. Argon filled with black spacer bars)\nCill:    150mm (standard)\nTrickle Vents:   Yes\nThreshold:    Standard (55mm)\nHandle Colour:    Door Colour\nVivo Handle Colour:   Door Colour\nHinges/Rollers Colour:   Black to match weather seals\nDelivery Charge:    FOC
URL:https://www.sggmanufacturing.co.uk/event/survey-1no-3-pane-bifold-2/
LOCATION:Lionel Ngounou\, 19 Kidbrooke Lane\, London\, SE9 6TE\, United Kingdom
CATEGORIES:Survey
END:VEVENT
END:VCALENDAR