BEGIN:VCALENDAR
VERSION:2.0
PRODID:-//SGG Manufacturing - ECPv6.3.7//NONSGML v1.0//EN
CALSCALE:GREGORIAN
METHOD:PUBLISH
X-WR-CALNAME:SGG Manufacturing
X-ORIGINAL-URL:https://www.sggmanufacturing.co.uk
X-WR-CALDESC:Events for SGG Manufacturing
REFRESH-INTERVAL;VALUE=DURATION:PT1H
X-Robots-Tag:noindex
X-PUBLISHED-TTL:PT1H
BEGIN:VTIMEZONE
TZID:UTC
BEGIN:STANDARD
TZOFFSETFROM:+0000
TZOFFSETTO:+0000
TZNAME:UTC
DTSTART:20240101T000000
END:STANDARD
END:VTIMEZONE
BEGIN:VEVENT
DTSTART;TZID=UTC:20240424T160000
DTEND;TZID=UTC:20240424T180000
DTSTAMP:20260419T192135
CREATED:20240423T095409Z
LAST-MODIFIED:20240423T104232Z
UID:3490-1713974400-1713981600@www.sggmanufacturing.co.uk
SUMMARY:Attend to assess/repair
DESCRIPTION:Assess uPVC doors and repair if possible. \n  \nAny queries speak to Dominic (he’s the manufacture) – 07572 002134 \n  \nGoing on behalf of Green Rooms
URL:https://www.sggmanufacturing.co.uk/event/attend-to-assess-repair/
LOCATION:Andrew Gill\, 3 Reed Place\, Towpath\, TW17 9LL\, United Kingdom
CATEGORIES:Repair
END:VEVENT
END:VCALENDAR